BEGIN:VCALENDAR
VERSION:2.0
PRODID:-//Tukios.com/
BEGIN:VEVENT
UID:02a76729-7534-400a-ab35-ffd9827b4cfc@www.lankfordfuneralhome.com
DTSTAMP:20260422T024330Z
DTSTART:20260502T160000Z
DTEND:20260502T170000Z
SUMMARY:Visitation
DESCRIPTION:
URL:https://www.lankfordfuneralhome.com/obituaries/andrea-jolly
LOCATION:Lankford Funeral Home 220 East New York Avenue  DeLand FL 32724
GEO:29.0278552;-81.3004395
END:VEVENT
END:VCALENDAR