BEGIN:VCALENDAR
VERSION:2.0
PRODID:-//Tukios.com/
BEGIN:VEVENT
UID:15f291e1-3a10-4322-9da3-5d650d5874ad@www.lankfordfuneralhome.com
DTSTAMP:20260422T024647Z
DTSTART:20260502T170000Z
DTEND:20260502T180000Z
SUMMARY:Celebration of Life
DESCRIPTION:
URL:https://www.lankfordfuneralhome.com/obituaries/andrea-jolly
LOCATION:Lankford Funeral Home 220 East New York Avenue  DeLand FL 32724
GEO:29.0278552;-81.3004395
END:VEVENT
END:VCALENDAR