BEGIN:VCALENDAR
VERSION:2.0
PRODID:-//Tukios.com/
BEGIN:VEVENT
UID:0db62fb8-ba6a-4187-94eb-2897bf423205@www.lankfordfuneralhome.com
DTSTAMP:20260422T024351Z
DTSTART:20260502T180000Z
DTEND:20260502T190000Z
SUMMARY:Reception
DESCRIPTION:
URL:https://www.lankfordfuneralhome.com/obituaries/andrea-jolly
LOCATION: 220 East New York Avenue  DeLand FL 32724
GEO:29.0278552;-81.3004395
END:VEVENT
END:VCALENDAR