BEGIN:VCALENDAR
VERSION:2.0
PRODID:-//Tukios.com/
BEGIN:VEVENT
UID:fc11f7ac-a15b-49e4-a464-0782679622bc@www.lankfordfuneralhome.com
DTSTAMP:20260420T171753Z
DTSTART:20260422T190000Z
DTEND:20260422T193000Z
SUMMARY:Graveside Service
DESCRIPTION:
URL:https://www.lankfordfuneralhome.com/obituaries/ann-drobach
LOCATION: 800 N Clara  DeLand FL 32720
GEO:29.0401532;-81.3081997
END:VEVENT
END:VCALENDAR