BEGIN:VCALENDAR
VERSION:2.0
PRODID:-//Tukios.com/
BEGIN:VEVENT
UID:634305ff-0290-4965-8b13-b0b9f8b0a58d@www.lankfordfuneralhome.com
DTSTAMP:20260420T171753Z
DTSTART:20260422T171500Z
DTEND:20260422T183000Z
SUMMARY:Mass
DESCRIPTION:
URL:https://www.lankfordfuneralhome.com/obituaries/ann-drobach
LOCATION:St Peter Catholic Church 359 W New York Ave  Deland FL 32720
GEO:29.0288629;-81.3097554
END:VEVENT
END:VCALENDAR