BEGIN:VCALENDAR
VERSION:2.0
PRODID:-//Tukios.com/
BEGIN:VEVENT
UID:db359502-d806-4df8-b3e3-ac496a26c2a8@www.lankfordfuneralhome.com
DTSTAMP:20260420T171755Z
DTSTART:20260421T233000Z
DTEND:20260422T000000Z
SUMMARY:Rosary
DESCRIPTION:
URL:https://www.lankfordfuneralhome.com/obituaries/ann-drobach
LOCATION: 220 E New York Ave  DeLand FL 32724
GEO:29.0278552;-81.3004395
END:VEVENT
END:VCALENDAR