BEGIN:VCALENDAR
VERSION:2.0
PRODID:-//Tukios.com/
BEGIN:VEVENT
UID:3002edf1-dabf-45c3-9865-d0d0fb86ab9b@www.lankfordfuneralhome.com
DTSTAMP:20260420T171849Z
DTSTART:20260421T220000Z
DTEND:20260421T233000Z
SUMMARY:Visitation
DESCRIPTION:
URL:https://www.lankfordfuneralhome.com/obituaries/ann-drobach
LOCATION: 220 E New York Ave  DeLand FL 32724
GEO:29.0278552;-81.3004395
END:VEVENT
END:VCALENDAR