BEGIN:VCALENDAR
VERSION:2.0
PRODID:-//Tukios.com/
BEGIN:VEVENT
UID:dc064efc-f404-4ed1-bc8c-9128f9b7a3d2@www.lankfordfuneralhome.com
DTSTAMP:20260420T161935Z
DTSTART:20260424T160000Z
DTEND:20260424T170000Z
SUMMARY:Celebration of Life
DESCRIPTION:
URL:https://www.lankfordfuneralhome.com/obituaries/betty-garrard
LOCATION:All Saints Episcopal Church 155 Clark Street  Deltona FL 32725
GEO:28.87008;-81.2675416
END:VEVENT
END:VCALENDAR