BEGIN:VCALENDAR
VERSION:2.0
PRODID:-//Tukios.com/
BEGIN:VEVENT
UID:b26e87f6-56db-482f-aba8-1030af0b9573@www.lankfordfuneralhome.com
DTSTAMP:20260421T230617Z
DTSTART:20260422T150000Z
DTEND:20260422T160000Z
SUMMARY:Memorial Service
DESCRIPTION:
URL:https://www.lankfordfuneralhome.com/obituaries/donald-gooden
LOCATION:Lankford Funeral Home & Crematory 220 E New York Ave  DeLand FL 
	32724
GEO:29.0278552;-81.3004395
END:VEVENT
END:VCALENDAR