BEGIN:VCALENDAR
VERSION:2.0
PRODID:-//Tukios.com/
BEGIN:VEVENT
UID:659c2a98-c8d8-4df5-a5b9-cc339b1c8798@www.lankfordfuneralhome.com
DTSTAMP:20260423T164205Z
DTSTART:20260502T190000Z
DTEND:20260502T200000Z
SUMMARY:Memorial Service
DESCRIPTION:
URL:https://www.lankfordfuneralhome.com/obituaries/judith-coleman
LOCATION:Glenwood Presbyterian Church 3190 Grand Avenue  DeLand FL 32720
GEO:29.0842781;-81.354257
END:VEVENT
END:VCALENDAR